BEGIN:VCALENDAR
VERSION:2.0
PRODID:-//Horse Sense Healing - ECPv6.15.20//NONSGML v1.0//EN
CALSCALE:GREGORIAN
METHOD:PUBLISH
X-WR-CALNAME:Horse Sense Healing
X-ORIGINAL-URL:https://www.horsesensehealing.com
X-WR-CALDESC:Events for Horse Sense Healing
REFRESH-INTERVAL;VALUE=DURATION:PT1H
X-Robots-Tag:noindex
X-PUBLISHED-TTL:PT1H
BEGIN:VTIMEZONE
TZID:America/Denver
BEGIN:DAYLIGHT
TZOFFSETFROM:-0700
TZOFFSETTO:-0600
TZNAME:MDT
DTSTART:20250309T090000
END:DAYLIGHT
BEGIN:STANDARD
TZOFFSETFROM:-0600
TZOFFSETTO:-0700
TZNAME:MST
DTSTART:20251102T080000
END:STANDARD
BEGIN:DAYLIGHT
TZOFFSETFROM:-0700
TZOFFSETTO:-0600
TZNAME:MDT
DTSTART:20260308T090000
END:DAYLIGHT
BEGIN:STANDARD
TZOFFSETFROM:-0600
TZOFFSETTO:-0700
TZNAME:MST
DTSTART:20261101T080000
END:STANDARD
BEGIN:DAYLIGHT
TZOFFSETFROM:-0700
TZOFFSETTO:-0600
TZNAME:MDT
DTSTART:20270314T090000
END:DAYLIGHT
BEGIN:STANDARD
TZOFFSETFROM:-0600
TZOFFSETTO:-0700
TZNAME:MST
DTSTART:20271107T080000
END:STANDARD
END:VTIMEZONE
BEGIN:VEVENT
DTSTART;TZID=America/Denver:20260529T173000
DTEND;TZID=America/Denver:20260530T163000
DTSTAMP:20260423T130905
CREATED:20260225T202500Z
LAST-MODIFIED:20260409T203651Z
UID:3928-1780075800-1780158600@www.horsesensehealing.com
SUMMARY:Your Stories\, Your Health
DESCRIPTION:“Your biography becomes your biology.”\n~Carolyn Myss \nAre you experiencing challenging or unexplained health issues?\nWe are partnering with with Root Cause Educator & Terrain-Based Wellness Guide\, Melissa Rose of Sagebrush Wellness!\nOur stories can live in our cells\, our bodies and manifest into physical illness or “dis-ease”. \nJoin us to explore opportunities to heal and release the old stories perhaps trapped in your body. Your body and your health often reflect your stories. Learn how to listen to it’s messages and support your body and your health. \n \n\nReceive a functional medicine assessment & support.\nExperience the wisdom of the healing horses & gestalt.\n\nWe will gather Friday evening\, May 29th\, from 5:30-8:30p. Enjoy healthy hors d’oeuvres as we connect and explore your health story followed by a full day\, Saturday\, May 30th\, 9:30-4:30p\, with Melissa\, Brenda & the horses where story\, biology and horses meet recovery. Lunch & light snacks provided Saturday. All for $297. Space is limited to 10 and open to adult men & women. \nAbout Melissa Rose: \nMelissa Rose\, AFMP\, CHHC\, AADP has spent her career doing what conventional medicine rarely does: asking why.\nAs the founder of Sagebrush Wellness and co-founder of Aira Health\, Melissa works with clients navigating autoimmune disease\, complex illness\, mystery illness\, and rare conditions that have often gone unresolved for years — sometimes decades. Her approach isn’t symptom management. It’s terrain medicine: a systems-based framework that investigates the internal environment driving disease\, rather than simply naming it.\nMelissa developed her clinical method after her own health journey — one that led her to question the standard model and eventually build something better. She created a structured recovery methodology\, developed custom compounded supplementation\, and built the Bloodwork Navigator app to give clients real ownership over their health data and recovery path. \nShe is an AFMC Board Certified Functional Medicine Practitioner\, an AADP Board Certified Drugless Practitioner\, and the author of Reversing Your Autoimmune Story. Melissa has spoken at the CellCore Conference\, the Symptom Free MS Summit\, and the MS Fitness Challenge\, and has been featured on multiple podcasts and summits including the Thrive Women International Summit and Thrive Woman TEDx-style Talks.\nSagebrush Wellness is a fully virtual practice serving clients across the U.S.\, Canada\, the UK\, and beyond. Whether you’re newly diagnosed or have been searching for answers for years\, Melissa’s work starts from the same place: your story isn’t over — it’s just missing the right investigation.\n“Your diagnosis isn’t your destiny — it’s simply a starting point for a new story of recovery.” \nFor more information visit her website here. \n \n\n\n \n  \n  \n 
URL:https://www.horsesensehealing.com/event/your-stories-your-health/
CATEGORIES:2026,Event
END:VEVENT
END:VCALENDAR