BEGIN:VCALENDAR
VERSION:2.0
PRODID:-//Horse Sense Healing - ECPv6.15.20//NONSGML v1.0//EN
CALSCALE:GREGORIAN
METHOD:PUBLISH
X-WR-CALNAME:Horse Sense Healing
X-ORIGINAL-URL:https://www.horsesensehealing.com
X-WR-CALDESC:Events for Horse Sense Healing
REFRESH-INTERVAL;VALUE=DURATION:PT1H
X-Robots-Tag:noindex
X-PUBLISHED-TTL:PT1H
BEGIN:VTIMEZONE
TZID:America/Denver
BEGIN:DAYLIGHT
TZOFFSETFROM:-0700
TZOFFSETTO:-0600
TZNAME:MDT
DTSTART:20250309T090000
END:DAYLIGHT
BEGIN:STANDARD
TZOFFSETFROM:-0600
TZOFFSETTO:-0700
TZNAME:MST
DTSTART:20251102T080000
END:STANDARD
BEGIN:DAYLIGHT
TZOFFSETFROM:-0700
TZOFFSETTO:-0600
TZNAME:MDT
DTSTART:20260308T090000
END:DAYLIGHT
BEGIN:STANDARD
TZOFFSETFROM:-0600
TZOFFSETTO:-0700
TZNAME:MST
DTSTART:20261101T080000
END:STANDARD
BEGIN:DAYLIGHT
TZOFFSETFROM:-0700
TZOFFSETTO:-0600
TZNAME:MDT
DTSTART:20270314T090000
END:DAYLIGHT
BEGIN:STANDARD
TZOFFSETFROM:-0600
TZOFFSETTO:-0700
TZNAME:MST
DTSTART:20271107T080000
END:STANDARD
END:VTIMEZONE
BEGIN:VEVENT
DTSTART;TZID=America/Denver:20260502T110000
DTEND;TZID=America/Denver:20260502T133000
DTSTAMP:20260423T173223
CREATED:20220126T214226Z
LAST-MODIFIED:20260416T203110Z
UID:1719-1777719600-1777728600@www.horsesensehealing.com
SUMMARY:Women's Healing & Connection Circle
DESCRIPTION:FREEDOM    CONNECTION    SUPPORT\n \nJoin us for a powerful heart connection with the horses and each other. Drop away the to-dos and demands and BE with Brenda\, the healing horses and the powerful Equine Gestalt Coaching Method. This monthly unique and experiential opportunity is limited to 8 participants\, 4 minimum. Most groups are the 2nd Saturday of the month. Please RSVP by the Thursday before. \nPLEASE NOTE OUR MAY CIRCLE WILL BE THE 1ST SATURDAY IN MAY DUE TO A SPECIAL EVENT IN THE FLATHEAD THE FOLLOWING WEEKEND.  \nOur Spring Dates are April 11 * May 2 * June 20\nNow more than ever we need connection and support! The importance of embracing love and compassion for ourselves is critical. Let’s drop what gets in the way of loving ourselves and support each other with the horses! Find freedom from old stories. Connect with other women and the horses in a supportive\, safe and sacred environment. \nWhat happens at our women’s circles? \n– Finding\, owning & stepping into our truth \n– Connecting with yourself\, each other\, with horses \n– Release what needs releasing \n– Embrace what is calling you \n– Listen\, celebrate & just be! \nWe laugh. We cry. We set strong boundaries with the inner critic and so much more! \nWe learn from the beautiful and powerful healing horses and from each other. \n \n  \n“It did my heart SO much good to be there today.   I wish it could be an everyday thing!!!” S. Helena \nCost is $55. **No horse experience required. No riding will occur. ** Register by the Thursday prior to the circle. Directions will be emailed Thursday before our circle. \n\n   \n\n\nCall or email Brenda for more information. 406-261-6191 or brenda@horsesensehealing.com
URL:https://www.horsesensehealing.com/event/womens-healing-connection-circle/
CATEGORIES:2026,Event
END:VEVENT
END:VCALENDAR