BEGIN:VCALENDAR
VERSION:2.0
PRODID:-//Horse Sense Healing - ECPv6.15.20//NONSGML v1.0//EN
CALSCALE:GREGORIAN
METHOD:PUBLISH
X-ORIGINAL-URL:https://www.horsesensehealing.com
X-WR-CALDESC:Events for Horse Sense Healing
REFRESH-INTERVAL;VALUE=DURATION:PT1H
X-Robots-Tag:noindex
X-PUBLISHED-TTL:PT1H
BEGIN:VTIMEZONE
TZID:America/Denver
BEGIN:DAYLIGHT
TZOFFSETFROM:-0700
TZOFFSETTO:-0600
TZNAME:MDT
DTSTART:20230312T090000
END:DAYLIGHT
BEGIN:STANDARD
TZOFFSETFROM:-0600
TZOFFSETTO:-0700
TZNAME:MST
DTSTART:20231105T080000
END:STANDARD
BEGIN:DAYLIGHT
TZOFFSETFROM:-0700
TZOFFSETTO:-0600
TZNAME:MDT
DTSTART:20240310T090000
END:DAYLIGHT
BEGIN:STANDARD
TZOFFSETFROM:-0600
TZOFFSETTO:-0700
TZNAME:MST
DTSTART:20241103T080000
END:STANDARD
BEGIN:DAYLIGHT
TZOFFSETFROM:-0700
TZOFFSETTO:-0600
TZNAME:MDT
DTSTART:20250309T090000
END:DAYLIGHT
BEGIN:STANDARD
TZOFFSETFROM:-0600
TZOFFSETTO:-0700
TZNAME:MST
DTSTART:20251102T080000
END:STANDARD
END:VTIMEZONE
BEGIN:VEVENT
DTSTART;TZID=America/Denver:20241118T180000
DTEND;TZID=America/Denver:20241118T190000
DTSTAMP:20260424T182427
CREATED:20240423T024254Z
LAST-MODIFIED:20241118T194325Z
UID:2374-1731952800-1731956400@www.horsesensehealing.com
SUMMARY:Finding Peace
DESCRIPTION:Wars. Economic worries. Politics. Clashing belief systems. Unrest. Violence.  All of this is making it a lot more challenging to be at peace. \nWe have had our final event for 2024. Watch for Finding Peace to resume in 2025!\nWe have enjoyed connecting and sharing the energy of peace with you over the past few months.  We are taking a break during winter months and will resume when the temperatures rise and the evening light returns. \nConnection.  Horses. Supportive Coaching.   \nTake a break from the intensity and the triggers. Let’s gather to raise our vibrations. We believe what we put our energy into expands. If even for a short time\, let’s disconnect from it all and find some peace and joy with the horses!  Even as I write this I feel my body relax. \n \nI know what is like to live with someone continually glued to the news\, to the negativity and fear. Bring you\, bring them. Pause the constant flow of cortisol into your bodies. \nThese past & recent times have brought out a lot of challenges for many of us. From COVID 19\, politics to senseless violence to worries about so many issues.  The divisiveness and separateness is prolific. Family members pitted against each other. Friends dropping friends. Belief systems clashing.  The intensity is immense. Old wounds being brought to the surface to be healed and released. The energetic vibration has been dense and heavy and difficult to hold. How about you? \nWe truly believe that what we focus on expands.  We can choose to jump in the swamp and drown with anger and defensiveness and fear\, and….  Even during these incredible times of change and uncertainty it is possible to find joy\, peace. When was the last time you truly felt at ease?  Truly felt at peace? \nThe great thing for me is I live with 5 incredible 4 legged angels who live in the energy and vibration of  joy – yes\, I mean horses. \nPlease join us at the beautiful Inyo Ranch in Helena to pause or even drop our worries and anger and discord and heaviness at the gate. As you step into the space with the horses and nature your vibration will begin to rise. We will play with the energy of peace\, joy and experiment with freedom from trauma and intensity. \nRSVP now as space is limited to 10. TO REGISTER PLEASE EMAIL brenda@horsesensehealing.com or call 406-261-6191. \nNo horse experience needed.  No riding will occur. \nQuestions?  Call Brenda at 406-261.6191 \nThis unique experience is will not only benefit you but all donations will be going to Hope Through Horses\, Inc.\, a 501(c)(3) whose mission is to “Share the Healing Power of Horses and Transformative Coaching with the World.” This non-profit provides funding to those who cannot afford to access the powerful transformation through Equine Gestalt Coaching.  You can donate now here. \n  \n 
URL:https://www.horsesensehealing.com/event/finding-peace-2/
CATEGORIES:2024,Event
END:VEVENT
END:VCALENDAR