BEGIN:VCALENDAR
VERSION:2.0
PRODID:-//Horse Sense Healing - ECPv6.15.20//NONSGML v1.0//EN
CALSCALE:GREGORIAN
METHOD:PUBLISH
X-WR-CALNAME:Horse Sense Healing
X-ORIGINAL-URL:https://www.horsesensehealing.com
X-WR-CALDESC:Events for Horse Sense Healing
REFRESH-INTERVAL;VALUE=DURATION:PT1H
X-Robots-Tag:noindex
X-PUBLISHED-TTL:PT1H
BEGIN:VTIMEZONE
TZID:America/Denver
BEGIN:DAYLIGHT
TZOFFSETFROM:-0700
TZOFFSETTO:-0600
TZNAME:MDT
DTSTART:20250309T090000
END:DAYLIGHT
BEGIN:STANDARD
TZOFFSETFROM:-0600
TZOFFSETTO:-0700
TZNAME:MST
DTSTART:20251102T080000
END:STANDARD
BEGIN:DAYLIGHT
TZOFFSETFROM:-0700
TZOFFSETTO:-0600
TZNAME:MDT
DTSTART:20260308T090000
END:DAYLIGHT
BEGIN:STANDARD
TZOFFSETFROM:-0600
TZOFFSETTO:-0700
TZNAME:MST
DTSTART:20261101T080000
END:STANDARD
BEGIN:DAYLIGHT
TZOFFSETFROM:-0700
TZOFFSETTO:-0600
TZNAME:MDT
DTSTART:20270314T090000
END:DAYLIGHT
BEGIN:STANDARD
TZOFFSETFROM:-0600
TZOFFSETTO:-0700
TZNAME:MST
DTSTART:20271107T080000
END:STANDARD
END:VTIMEZONE
BEGIN:VEVENT
DTSTART;TZID=America/Denver:20260503T110000
DTEND;TZID=America/Denver:20260503T140000
DTSTAMP:20260423T130906
CREATED:20260306T191352Z
LAST-MODIFIED:20260416T203013Z
UID:3918-1777806000-1777816800@www.horsesensehealing.com
SUMMARY:Healing from Hair Loss with Horses Fundraiser
DESCRIPTION:  \nScreenshot\nHair loss. Hair is an important part of our identity and how we express our personality. Thinning hair and hair loss is stressful\, embarrassing\, it can bring about despair\, isolation and more. \nJoin sponsors\, Melinda Xavier\, Hair Replacement Educator & Master Cyberhair Micropoint Link Technician\, Studio Owner and Dimples Hair\, along with Brenda Westwood\, Master Equine Gestalt Coach and the horses for a special champagne brunch event on Sunday\, May 3rd\, 11 – 2p. \nMelinda will share options available for solutions to hair loss\, support and opportunities to try on toppers and wigs in a safe and private space. Dimples Hair will have a pop up showcasing high quality toppers and wigs. \nBrenda and the horses will share how horses and gestalt can help support you through the journey of hair loss. The Equine Gestalt Coaching Method offers powerful transformation and healing. \nProceeds will be donated to Hope Through Horses\, Inc. to help support access to Equine Gestalt services through Horse Sense Healing here in Montana. \nTickets are a $25 donation. To grab your ticket use the QR code on the flyer or use the link below. Space is limited to 30. \nhttps://givebutter.com/give-hope-ow3rhi
URL:https://www.horsesensehealing.com/event/healing-from-hair-loss-with-horses-fundraiser/
CATEGORIES:2026,Event
END:VEVENT
END:VCALENDAR