BEGIN:VCALENDAR
VERSION:2.0
PRODID:-//Horse Sense Healing - ECPv6.15.20//NONSGML v1.0//EN
CALSCALE:GREGORIAN
METHOD:PUBLISH
X-ORIGINAL-URL:https://www.horsesensehealing.com
X-WR-CALDESC:Events for Horse Sense Healing
REFRESH-INTERVAL;VALUE=DURATION:PT1H
X-Robots-Tag:noindex
X-PUBLISHED-TTL:PT1H
BEGIN:VTIMEZONE
TZID:America/Denver
BEGIN:DAYLIGHT
TZOFFSETFROM:-0700
TZOFFSETTO:-0600
TZNAME:MDT
DTSTART:20220313T090000
END:DAYLIGHT
BEGIN:STANDARD
TZOFFSETFROM:-0600
TZOFFSETTO:-0700
TZNAME:MST
DTSTART:20221106T080000
END:STANDARD
BEGIN:DAYLIGHT
TZOFFSETFROM:-0700
TZOFFSETTO:-0600
TZNAME:MDT
DTSTART:20230312T090000
END:DAYLIGHT
BEGIN:STANDARD
TZOFFSETFROM:-0600
TZOFFSETTO:-0700
TZNAME:MST
DTSTART:20231105T080000
END:STANDARD
BEGIN:DAYLIGHT
TZOFFSETFROM:-0700
TZOFFSETTO:-0600
TZNAME:MDT
DTSTART:20240310T090000
END:DAYLIGHT
BEGIN:STANDARD
TZOFFSETFROM:-0600
TZOFFSETTO:-0700
TZNAME:MST
DTSTART:20241103T080000
END:STANDARD
END:VTIMEZONE
BEGIN:VEVENT
DTSTART;TZID=America/Denver:20230419T150000
DTEND;TZID=America/Denver:20230616T173000
DTSTAMP:20260425T221736
CREATED:20230209T032604Z
LAST-MODIFIED:20230626T174759Z
UID:2031-1681916400-1686936600@www.horsesensehealing.com
SUMMARY:BREAKING FREE ~ Fix Your Picker!
DESCRIPTION:IT’S NOT TOO LATE! WE WILL BEGIN ON WEDNESDAY\, APRIL 19TH. \nBE SURE TO GRAB YOUR SPOT! \nYou might be here because you or someone you know have a pattern of getting involved in unhealthy relationships\, whether they be romantic\, friendships or jobs. \nI spent the majority of my life going from one unhealthy relationship to another. It was as if I had a sign that said\, “pick me if you need someone to take care of you”. “Pick me if you need a fixer or a rescuer.” My picker was broken. Even though I had been to therapy and Codependents Anonymous\, where I learned a lot about the patterns of dysfunction\, I learned a lot about setting boundaries and self care and it was inspiring\, it didn’t stop the patterns of fixing and rescuing. Those patterns and my choices only became more subtle. It wasn’t until I experienced the world of Gestalt and the Equine Gestalt Coaching Method during my training\, that things truly shifted. I found freedom from that old story.  \nIf we didn’t have adults model healthy relationships while growing up or if we are picking our partners\, friends and even work with our unfinished business running in the background\, we most often choose relationships that aren’t healthy\, even toxic. Hence\, the term broken picker.   \n\nDo you find yourself in the same unhealthy relationships over and over?\nHave you ever thought\, “this time I have overcome attracting xyz” only to find it’s the same partner\, friend\, job in a different package?\nDo you feel stuck in your old story of fixing\, rescuing\, pleasing?\n\n \nJoin us to identify and BREAK FREE from the old patterns & stories and FIX YOUR PICKER! \nYou will receive: \n\nUnconditional support through small group connection and sharing.\nTransformational gestalt coaching with and without the horses.\nDeeper awareness of your true self outside of the old stories.\nThe opportunity to shift those old patterns and stories.\nSelf-compassion and more.\n\nTwo options are available for these safe and sacred small groups. Each group will then be a closed to new members once we begin and we will meet 2 times per month for three months . We will explore the roots of those old stories and begin to release them together. \nIN-PERSON GROUP: \nMeets Wednesday afternoons from 3-5:30p\,  April 19\, May 3 & 17\, June 7 & 21 and July 5th. Sessions will be held with and without horses. No horse experience needed. No riding will occur. Location information will be provided upon registration. Pay for all 6 sessions in one payment for $420 or 3 payments of $155. \nVIRTUAL GROUP: \nVirtual sessions are on hold. If you are interested please let me know and I will add you to the waiting list. Materials will be provided. Pay for all 6 sessions in one payment for $369 or 3 payments of $135. \nContact Brenda for more information and for payment arrangements. \n406-257-0008 or email me at brenda@horsesensehealing.com. \n  \n  \n  \n  \n  \n  \n  \n 
URL:https://www.horsesensehealing.com/event/breaking-free-fix-your-picker/
CATEGORIES:2023,Event
END:VEVENT
END:VCALENDAR