BEGIN:VCALENDAR
VERSION:2.0
PRODID:-//Horse Sense Healing - ECPv6.15.20//NONSGML v1.0//EN
CALSCALE:GREGORIAN
METHOD:PUBLISH
X-ORIGINAL-URL:https://www.horsesensehealing.com
X-WR-CALDESC:Events for Horse Sense Healing
REFRESH-INTERVAL;VALUE=DURATION:PT1H
X-Robots-Tag:noindex
X-PUBLISHED-TTL:PT1H
BEGIN:VTIMEZONE
TZID:America/Denver
BEGIN:DAYLIGHT
TZOFFSETFROM:-0700
TZOFFSETTO:-0600
TZNAME:MDT
DTSTART:20240310T090000
END:DAYLIGHT
BEGIN:STANDARD
TZOFFSETFROM:-0600
TZOFFSETTO:-0700
TZNAME:MST
DTSTART:20241103T080000
END:STANDARD
BEGIN:DAYLIGHT
TZOFFSETFROM:-0700
TZOFFSETTO:-0600
TZNAME:MDT
DTSTART:20250309T090000
END:DAYLIGHT
BEGIN:STANDARD
TZOFFSETFROM:-0600
TZOFFSETTO:-0700
TZNAME:MST
DTSTART:20251102T080000
END:STANDARD
BEGIN:DAYLIGHT
TZOFFSETFROM:-0700
TZOFFSETTO:-0600
TZNAME:MDT
DTSTART:20260308T090000
END:DAYLIGHT
BEGIN:STANDARD
TZOFFSETFROM:-0600
TZOFFSETTO:-0700
TZNAME:MST
DTSTART:20261101T080000
END:STANDARD
END:VTIMEZONE
BEGIN:VEVENT
DTSTART;TZID=America/Denver:20250315T100000
DTEND;TZID=America/Denver:20250315T160000
DTSTAMP:20260424T084723
CREATED:20250213T194418Z
LAST-MODIFIED:20250214T021149Z
UID:3711-1742032800-1742054400@www.horsesensehealing.com
SUMMARY:Find the Love Within Workshop
DESCRIPTION:  \nTired of looking for love in all the wrong places?\n“Choosing to love yourself isn’t an act of selfishness; it’s a declaration of worthiness.” unknown\nLove comes in all forms. All shapes. All sizes. It comes from outside through our connections. Through our family\, friends\, lovers\, our animal families. \nThere is the greater LOVE\, Divine LOVE or Universal LOVE\, however you hold it. It’s the overwhelming feeling that hits me when I truly feel connected to all of creation and feel the sacredness of all of life. Perhaps this is the place where true compassion is born. \nMost importantly\, and for some the most difficult\, LOVE comes from within. For without the ability to love ourselves\, we are not able to truly\, unconditionally love others and all with which we share this beautiful space. \nTired of seeking approval or validation from the outside world? \nOf putting yourself last? \nOf people pleasing? \nOf tolerating poor behavior? \n      \nToo many of us find ourselves doubting our worth – Feeling as if we aren’t lovable unless we are validated by others. Often those “others” aren’t necessarily good for us.  When we feel loving toward ourselves\, we are able to receive love! We believe we are worthy of LOVE. When we love ourselves\, we are able to set healthy boundaries\, practice self-care\, including stepping up with courage upon the path to healing. Join me for this one day workshop to find your worth\, embrace self-compassion.  Claim the love within! \nWe will have time with the horses as weather allows. \nLunch is provided. \nOpen to men & women\, ages 18+. Saturday\, March 15th\, 10-4p. Pre-registration required. \n$149 \n\n\n \nPowered by \n\n  \n 
URL:https://www.horsesensehealing.com/event/find-the-love-within-workshop/
LOCATION:MT
CATEGORIES:2025,Event
END:VEVENT
END:VCALENDAR