BEGIN:VCALENDAR
VERSION:2.0
PRODID:-//Horse Sense Healing - ECPv6.15.20//NONSGML v1.0//EN
CALSCALE:GREGORIAN
METHOD:PUBLISH
X-WR-CALNAME:Horse Sense Healing
X-ORIGINAL-URL:https://www.horsesensehealing.com
X-WR-CALDESC:Events for Horse Sense Healing
REFRESH-INTERVAL;VALUE=DURATION:PT1H
X-Robots-Tag:noindex
X-PUBLISHED-TTL:PT1H
BEGIN:VTIMEZONE
TZID:America/Denver
BEGIN:DAYLIGHT
TZOFFSETFROM:-0700
TZOFFSETTO:-0600
TZNAME:MDT
DTSTART:20240310T090000
END:DAYLIGHT
BEGIN:STANDARD
TZOFFSETFROM:-0600
TZOFFSETTO:-0700
TZNAME:MST
DTSTART:20241103T080000
END:STANDARD
BEGIN:DAYLIGHT
TZOFFSETFROM:-0700
TZOFFSETTO:-0600
TZNAME:MDT
DTSTART:20250309T090000
END:DAYLIGHT
BEGIN:STANDARD
TZOFFSETFROM:-0600
TZOFFSETTO:-0700
TZNAME:MST
DTSTART:20251102T080000
END:STANDARD
BEGIN:DAYLIGHT
TZOFFSETFROM:-0700
TZOFFSETTO:-0600
TZNAME:MDT
DTSTART:20260308T090000
END:DAYLIGHT
BEGIN:STANDARD
TZOFFSETFROM:-0600
TZOFFSETTO:-0700
TZNAME:MST
DTSTART:20261101T080000
END:STANDARD
END:VTIMEZONE
BEGIN:VEVENT
DTSTART;TZID=America/Denver:20250811T153000
DTEND;TZID=America/Denver:20250813T160000
DTSTAMP:20260424T032521
CREATED:20250514T025132Z
LAST-MODIFIED:20250715T010158Z
UID:3771-1754926200-1755100800@www.horsesensehealing.com
SUMMARY:A Hero's Journey with Horses for Boys August 11-13
DESCRIPTION:It’s time for our annual Hero’s Journey with Horses for youth! This is such an important time of life and we are thrilled to offer this meaningful opportunity. \nThis program offers a pathway for empowerment and self-discovery for youth. This 2 /12 day camp will provide self-esteem boosting\, confidence building experiences. This summer we are offering two camps for youth ages 10-12. \nGirls\, July 21-23 Postponed. \nBoys\, August 11-13\n \n  \nYouth today\, face incredible challenges\, be it disconnections from social interaction via electronic devices\, low self-esteem\, being bullied\, the impact of so much uncertainty in our world and on and on. All of which can create difficult behaviors\, anxiety\, acting out and some tough times for all\, including parents and caregivers. \nDuring these fun and powerful workshops children & youth learn to communicate feelings in healthy ways and gain tools to increase self-esteem and much more. Really to discover the hero within! \n  \n“A Hero’s Journey meant an experience meeting new friends (humans and horses) finding out more about myself\, learning things I never knew before\, and supporting friends through challenges.”  ~Bernadette\, 11 \n“I’m so lucky to be here! I met new friends. Some human\, some not. But\, I’m so glad to have come and will be coming again if I get the chance.”   ~ Brylee\, 13 \n“I felt like my daughter could explore her emotions in a non-threatening way. Traditional counseling has brought little success with getting to her feelings.  This experience with Brenda and the horses had a much better influence on my daughter and she wants to do the program again!”  S.G.\, Kalispell \n“You feel really comfortable and at home. You get to be with horses. You get to color. You get to eat lunch with friends you make. You make friends. Honestly\, it was life changing! I loved it. I wish it would never end.”  CB\, age 10 \n“It is life changing and trustworthy. So fun. So cool. I learned how to trust and ask for help! It is awesome!”  MB\, age 10 \n“I had an amazing time here. I made an emotional connection with the horses. People should come here if they have anxiety. It is really calming.” Morgan G-H\, 12\, 3rd year alumni \nBrenda and the horses will facilitate healthy communication\, confidence & cooperation building activities and identifying and expressing feelings. This is a great self-esteem booster for any child.\nCamp schedule: \nMonday\, 3:30-6:30p \nTuesday & Wednesday full days. \n $379.00 per child and includes dinner the first evening\, snacks the following 2 days and all materials. Space is limited to 6 per camp.\nFor more information and how to apply call 406-261-6191 or email brenda@horsesensehealing.com.\n  \n 
URL:https://www.horsesensehealing.com/event/a-heros-journey-with-horses-for-youth/
CATEGORIES:2025,Event
END:VEVENT
END:VCALENDAR