BEGIN:VCALENDAR
VERSION:2.0
PRODID:-//Horse Sense Healing - ECPv6.15.20//NONSGML v1.0//EN
CALSCALE:GREGORIAN
METHOD:PUBLISH
X-WR-CALNAME:Horse Sense Healing
X-ORIGINAL-URL:https://www.horsesensehealing.com
X-WR-CALDESC:Events for Horse Sense Healing
REFRESH-INTERVAL;VALUE=DURATION:PT1H
X-Robots-Tag:noindex
X-PUBLISHED-TTL:PT1H
BEGIN:VTIMEZONE
TZID:America/Denver
BEGIN:DAYLIGHT
TZOFFSETFROM:-0700
TZOFFSETTO:-0600
TZNAME:MDT
DTSTART:20230312T090000
END:DAYLIGHT
BEGIN:STANDARD
TZOFFSETFROM:-0600
TZOFFSETTO:-0700
TZNAME:MST
DTSTART:20231105T080000
END:STANDARD
BEGIN:DAYLIGHT
TZOFFSETFROM:-0700
TZOFFSETTO:-0600
TZNAME:MDT
DTSTART:20240310T090000
END:DAYLIGHT
BEGIN:STANDARD
TZOFFSETFROM:-0600
TZOFFSETTO:-0700
TZNAME:MST
DTSTART:20241103T080000
END:STANDARD
BEGIN:DAYLIGHT
TZOFFSETFROM:-0700
TZOFFSETTO:-0600
TZNAME:MDT
DTSTART:20250309T090000
END:DAYLIGHT
BEGIN:STANDARD
TZOFFSETFROM:-0600
TZOFFSETTO:-0700
TZNAME:MST
DTSTART:20251102T080000
END:STANDARD
END:VTIMEZONE
BEGIN:VEVENT
DTSTART;TZID=America/Denver:20241026T100000
DTEND;TZID=America/Denver:20241026T160000
DTSTAMP:20260425T042932
CREATED:20230627T210842Z
LAST-MODIFIED:20241010T224422Z
UID:2136-1729936800-1729958400@www.horsesensehealing.com
SUMMARY:Grit with Grace~ Yes. You. Can! Women's Empowerment Day!
DESCRIPTION: Grit with Grace ~ Women’s Empowerment Day!\nThis month we are are offering a full day workshop for women and girls of all ages – especially fun for Mom’s &\nDaughters\, Aunties & Nieces\, Grandmas and Granddaughters or on your own! \nSaturday\, October 26th we will gather in a sacred circle to learn a self-reliance skill and then explore confidence\, courage\, and what\ngets in our way of being empowered with the horses. We even explore how we can show up in our grace even in\nthe gritty times. \nHave any of the following ever been true for you? \n– You are suddenly faced with decisions and you are not sure how to proceed and feel inadequate or helpless. \n– You need something done and don’t know how to do it or who to call resulting in frustration and feeling a lack of power. \n– Do you have the basic survival skills just in case you have to? \nThings like fixing a leaky faucet or changing a flat tire or how about basic vehicle maintenance?  Have you ever wanted to learn how to use power tools so you can do your own projects?  What about a chainsaw\, have you ever wondered if you could run one safely?  Sure you can! We will focus on power tools and preparing for the upcoming winter months! \nJoin this experiential and powerful workshop with Brenda\, the healing horses and – \n– Engage your strengths! \n– Challenge perceived limitations! \n– Increase self-confidence! \nYou are capable and competent!\nI have had the opportunity to learn some valuable skills along the way in my life and I or a special guest will\nshare some of these important self-reliance skills with you!  \nYou might be wondering what horses have to do with this workshop… \nBrenda and her equine partners will guide you through your own self-discovery and path of inspiration utilizing the transformational Equine Gestalt Coaching Method. \n* No horse experience necessary.  No riding will occur.* \nSpace is limited to 10. RSVP by October 20th. \nCost is $125 each or two for $225. \n Contact Brenda for more information or questions\, 406-261-6191. \n \n\n\n \n\n\n\n\nGrit with Grace ~ Women’s Empowerment Day\n\n\nSingle registration $125.00 USDDiscount for two $225.00 USD\n\n\n\n\n \n\n 
URL:https://www.horsesensehealing.com/event/grit-with-grace-yes-you-can-womens-empowerment-day/
CATEGORIES:2024,Event
END:VEVENT
END:VCALENDAR